
BEGIN:VCALENDAR
VERSION:2.0
PRODID:-//collegefortn.org - ECPv6.15.20//NONSGML v1.0//EN
CALSCALE:GREGORIAN
METHOD:PUBLISH
X-WR-CALNAME:collegefortn.org
X-ORIGINAL-URL:https://www.collegefortn.org
X-WR-CALDESC:Events for collegefortn.org
REFRESH-INTERVAL;VALUE=DURATION:PT1H
X-Robots-Tag:noindex
X-PUBLISHED-TTL:PT1H
BEGIN:VTIMEZONE
TZID:America/Chicago
BEGIN:DAYLIGHT
TZOFFSETFROM:-0600
TZOFFSETTO:-0500
TZNAME:CDT
DTSTART:20210314T080000
END:DAYLIGHT
BEGIN:STANDARD
TZOFFSETFROM:-0500
TZOFFSETTO:-0600
TZNAME:CST
DTSTART:20211107T070000
END:STANDARD
BEGIN:DAYLIGHT
TZOFFSETFROM:-0600
TZOFFSETTO:-0500
TZNAME:CDT
DTSTART:20220313T080000
END:DAYLIGHT
BEGIN:STANDARD
TZOFFSETFROM:-0500
TZOFFSETTO:-0600
TZNAME:CST
DTSTART:20221106T070000
END:STANDARD
BEGIN:DAYLIGHT
TZOFFSETFROM:-0600
TZOFFSETTO:-0500
TZNAME:CDT
DTSTART:20230312T080000
END:DAYLIGHT
BEGIN:STANDARD
TZOFFSETFROM:-0500
TZOFFSETTO:-0600
TZNAME:CST
DTSTART:20231105T070000
END:STANDARD
BEGIN:DAYLIGHT
TZOFFSETFROM:-0600
TZOFFSETTO:-0500
TZNAME:CDT
DTSTART:20240310T080000
END:DAYLIGHT
BEGIN:STANDARD
TZOFFSETFROM:-0500
TZOFFSETTO:-0600
TZNAME:CST
DTSTART:20241103T070000
END:STANDARD
END:VTIMEZONE
BEGIN:VEVENT
DTSTART;TZID=America/Chicago:20230206T180000
DTEND;TZID=America/Chicago:20230206T190000
DTSTAMP:20260424T221706
CREATED:20230113T202526Z
LAST-MODIFIED:20230113T203757Z
UID:10000499-1675706400-1675710000@www.collegefortn.org
SUMMARY:Monday Night FAFSA Workshop
DESCRIPTION:Every Monday night from January 23 – February 27\, the THEC/TSAC Outreach team will conduct a live demonstration of the 2023–24 FAFSA. If you have questions about completing the FAFSA or simply want to watch us complete the FAFSA before tackling it yourself\, please register for the Monday night that works best with your schedule. \nREGISTER HERE
URL:https://www.collegefortn.org/event/monday-night-fafsa-workshop-5/
CATEGORIES:Student Webinars
ORGANIZER;CN="TN Higher Education Commission - Outreach Team":MAILTO:fafsa.help@tn.gov
END:VEVENT
BEGIN:VEVENT
DTSTART;TZID=America/Chicago:20230130T180000
DTEND;TZID=America/Chicago:20230130T190000
DTSTAMP:20260424T221706
CREATED:20230113T202131Z
LAST-MODIFIED:20230113T203854Z
UID:10000498-1675101600-1675105200@www.collegefortn.org
SUMMARY:Monday Night FAFSA Workshop
DESCRIPTION:Every Monday night from January 23 – February 27\, the THEC/TSAC Outreach team will conduct a live demonstration of the 2023–24 FAFSA. If you have questions about completing the FAFSA or simply want to watch us complete the FAFSA before tackling it yourself\, please register for the Monday night that works best with your schedule. \nREGISTER HERE
URL:https://www.collegefortn.org/event/monday-night-fafsa-workshop-4/
CATEGORIES:Student Webinars
ORGANIZER;CN="TN Higher Education Commission - Outreach Team":MAILTO:fafsa.help@tn.gov
END:VEVENT
BEGIN:VEVENT
DTSTART;TZID=America/Chicago:20230125T160000
DTEND;TZID=America/Chicago:20230125T190000
DTSTAMP:20260424T221706
CREATED:20230117T171159Z
LAST-MODIFIED:20230117T222251Z
UID:10000503-1674662400-1674673200@www.collegefortn.org
SUMMARY:Preparing for College & Career (In Person)
DESCRIPTION:Students and families are invited to a two-generational college & career expo for multicultural families to learn about specific opportunities for students of diverse backgrounds. \nPresentation provided in English\, Spanish\, and Arabic \nSponsored by The Office of Student\, Family & Community Affairs (SFCA) \nPREPARING FOR COLLEGE FLYER REV \nPREPARING FOR COLLEGE FLYER SPANISH \nPREPARING FOR COLLEGE FLYER Arabic (1)
URL:https://www.collegefortn.org/event/preparing-for-college-career/
LOCATION:Kingsbury High School\, 1270 N. Graham Street\, Memphis\, TN\, 38122\, United States
CATEGORIES:Student Webinars,TN Path to College Events
ORGANIZER;CN="TN Higher Education Commission - Outreach Team":MAILTO:fafsa.help@tn.gov
END:VEVENT
BEGIN:VEVENT
DTSTART;TZID=America/Chicago:20230123T180000
DTEND;TZID=America/Chicago:20230123T190000
DTSTAMP:20260424T221706
CREATED:20230113T201653Z
LAST-MODIFIED:20230117T171302Z
UID:10000408-1674496800-1674500400@www.collegefortn.org
SUMMARY:Monday Night FAFSA Workshop
DESCRIPTION:Every Monday night from January 23 – February 27\, the THEC/TSAC Outreach team will conduct a live demonstration of the 2023–24 FAFSA. If you have questions about completing the FAFSA or simply want to watch us complete the FAFSA before tackling it yourself\, please register for the Monday night that works best with your schedule. \nREGISTER HERE \n 
URL:https://www.collegefortn.org/event/monday-night-fafsa-workshop-3/
CATEGORIES:Student Webinars,TN Path to College Events
ORGANIZER;CN="TN Higher Education Commission - Outreach Team":MAILTO:fafsa.help@tn.gov
END:VEVENT
BEGIN:VEVENT
DTSTART;TZID=America/Chicago:20221212T180000
DTEND;TZID=America/Chicago:20221212T190000
DTSTAMP:20260424T221706
CREATED:20221110T193745Z
LAST-MODIFIED:20221110T193745Z
UID:10000403-1670868000-1670871600@www.collegefortn.org
SUMMARY:Monday Night FAFSA Workshop
DESCRIPTION:Every Monday night from November 14 – December 12\, the THEC/TSAC Outreach team will conduct a live demonstration of the 2023–24 FAFSA. If you have questions about completing the FAFSA or simply want to watch us complete the FAFSA before tackling it yourself\, please register for the Monday night that works best with your schedule. \nREGISTER HERE!
URL:https://www.collegefortn.org/event/monday-night-fafsa-workshop-2-2-2-2/
CATEGORIES:Student Webinars
ORGANIZER;CN="TN Higher Education Commission - Outreach Team":MAILTO:fafsa.help@tn.gov
END:VEVENT
BEGIN:VEVENT
DTSTART;TZID=America/Chicago:20221205T180000
DTEND;TZID=America/Chicago:20221205T190000
DTSTAMP:20260424T221706
CREATED:20221110T193716Z
LAST-MODIFIED:20221110T193716Z
UID:10000402-1670263200-1670266800@www.collegefortn.org
SUMMARY:Monday Night FAFSA Workshop
DESCRIPTION:Every Monday night from November 14 – December 12\, the THEC/TSAC Outreach team will conduct a live demonstration of the 2023–24 FAFSA. If you have questions about completing the FAFSA or simply want to watch us complete the FAFSA before tackling it yourself\, please register for the Monday night that works best with your schedule. \nREGISTER HERE!
URL:https://www.collegefortn.org/event/monday-night-fafsa-workshop-2-2-2/
CATEGORIES:Student Webinars
ORGANIZER;CN="TN Higher Education Commission - Outreach Team":MAILTO:fafsa.help@tn.gov
END:VEVENT
BEGIN:VEVENT
DTSTART;TZID=America/Chicago:20221128T180000
DTEND;TZID=America/Chicago:20221128T190000
DTSTAMP:20260424T221706
CREATED:20221110T193622Z
LAST-MODIFIED:20221110T193622Z
UID:10000401-1669658400-1669662000@www.collegefortn.org
SUMMARY:Monday Night FAFSA Workshop
DESCRIPTION:Every Monday night from November 14 – December 12\, the THEC/TSAC Outreach team will conduct a live demonstration of the 2023–24 FAFSA. If you have questions about completing the FAFSA or simply want to watch us complete the FAFSA before tackling it yourself\, please register for the Monday night that works best with your schedule. \nREGISTER HERE!
URL:https://www.collegefortn.org/event/monday-night-fafsa-workshop-2-2/
CATEGORIES:Student Webinars
ORGANIZER;CN="TN Higher Education Commission - Outreach Team":MAILTO:fafsa.help@tn.gov
END:VEVENT
BEGIN:VEVENT
DTSTART;TZID=America/Chicago:20221121T180000
DTEND;TZID=America/Chicago:20221121T190000
DTSTAMP:20260424T221706
CREATED:20221110T193445Z
LAST-MODIFIED:20221110T193520Z
UID:10000400-1669053600-1669057200@www.collegefortn.org
SUMMARY:Monday Night FAFSA Workshop
DESCRIPTION:Every Monday night from November 14 – December 12\, the THEC/TSAC Outreach team will conduct a live demonstration of the 2023–24 FAFSA. If you have questions about completing the FAFSA or simply want to watch us complete the FAFSA before tackling it yourself\, please register for the Monday night that works best with your schedule. \nREGISTER HERE!
URL:https://www.collegefortn.org/event/monday-night-fafsa-workshop-2/
CATEGORIES:Student Webinars
ORGANIZER;CN="TN Higher Education Commission - Outreach Team":MAILTO:fafsa.help@tn.gov
END:VEVENT
BEGIN:VEVENT
DTSTART;TZID=America/Chicago:20221114T180000
DTEND;TZID=America/Chicago:20221114T190000
DTSTAMP:20260424T221706
CREATED:20221110T162115Z
LAST-MODIFIED:20221110T162928Z
UID:10000399-1668448800-1668452400@www.collegefortn.org
SUMMARY:Monday Night FAFSA Workshop
DESCRIPTION:Every Monday night from November 14 – December 12\, the THEC/TSAC Outreach team will conduct a live demonstration of the 2023–24 FAFSA. If you have questions about completing the FAFSA or simply want to watch us complete the FAFSA before tackling it yourself\, please register for the Monday night that works best with your schedule. \nREGISTER HERE!
URL:https://www.collegefortn.org/event/monday-night-fafsa-workshop/
CATEGORIES:Student Webinars
ORGANIZER;CN="TN Higher Education Commission - Outreach Team":MAILTO:fafsa.help@tn.gov
END:VEVENT
END:VCALENDAR