
BEGIN:VCALENDAR
VERSION:2.0
PRODID:-//collegefortn.org - ECPv6.15.20//NONSGML v1.0//EN
CALSCALE:GREGORIAN
METHOD:PUBLISH
X-WR-CALNAME:collegefortn.org
X-ORIGINAL-URL:https://www.collegefortn.org
X-WR-CALDESC:Events for collegefortn.org
REFRESH-INTERVAL;VALUE=DURATION:PT1H
X-Robots-Tag:noindex
X-PUBLISHED-TTL:PT1H
BEGIN:VTIMEZONE
TZID:America/Chicago
BEGIN:DAYLIGHT
TZOFFSETFROM:-0600
TZOFFSETTO:-0500
TZNAME:CDT
DTSTART:20230312T080000
END:DAYLIGHT
BEGIN:STANDARD
TZOFFSETFROM:-0500
TZOFFSETTO:-0600
TZNAME:CST
DTSTART:20231105T070000
END:STANDARD
BEGIN:DAYLIGHT
TZOFFSETFROM:-0600
TZOFFSETTO:-0500
TZNAME:CDT
DTSTART:20240310T080000
END:DAYLIGHT
BEGIN:STANDARD
TZOFFSETFROM:-0500
TZOFFSETTO:-0600
TZNAME:CST
DTSTART:20241103T070000
END:STANDARD
BEGIN:DAYLIGHT
TZOFFSETFROM:-0600
TZOFFSETTO:-0500
TZNAME:CDT
DTSTART:20250309T080000
END:DAYLIGHT
BEGIN:STANDARD
TZOFFSETFROM:-0500
TZOFFSETTO:-0600
TZNAME:CST
DTSTART:20251102T070000
END:STANDARD
END:VTIMEZONE
BEGIN:VTIMEZONE
TZID:America/Detroit
BEGIN:DAYLIGHT
TZOFFSETFROM:-0500
TZOFFSETTO:-0400
TZNAME:EDT
DTSTART:20230312T070000
END:DAYLIGHT
BEGIN:STANDARD
TZOFFSETFROM:-0400
TZOFFSETTO:-0500
TZNAME:EST
DTSTART:20231105T060000
END:STANDARD
BEGIN:DAYLIGHT
TZOFFSETFROM:-0500
TZOFFSETTO:-0400
TZNAME:EDT
DTSTART:20240310T070000
END:DAYLIGHT
BEGIN:STANDARD
TZOFFSETFROM:-0400
TZOFFSETTO:-0500
TZNAME:EST
DTSTART:20241103T060000
END:STANDARD
BEGIN:DAYLIGHT
TZOFFSETFROM:-0500
TZOFFSETTO:-0400
TZNAME:EDT
DTSTART:20250309T070000
END:DAYLIGHT
BEGIN:STANDARD
TZOFFSETFROM:-0400
TZOFFSETTO:-0500
TZNAME:EST
DTSTART:20251102T060000
END:STANDARD
END:VTIMEZONE
BEGIN:VEVENT
DTSTART;TZID=America/Chicago:20241206T100000
DTEND;TZID=America/Chicago:20241206T110000
DTSTAMP:20260425T234301
CREATED:20241120T223743Z
LAST-MODIFIED:20241120T223743Z
UID:10000705-1733479200-1733482800@www.collegefortn.org
SUMMARY:One Week of the New FAFSA: What We Know
DESCRIPTION:Dive into the New FAFSA in our upcoming webinar. This informative session features THEC’s Jason Seay. He will discuss this year’s FAFSA in detail. Secure your spot now.
URL:https://www.collegefortn.org/event/one-week-of-the-new-fafsa-what-we-know/
CATEGORIES:College Assess Professionals,Educator Webinars,Postsecondary Partners,Webinars for TN
ORGANIZER;CN="Tennessee Higher Education Commission":MAILTO:suzette.telli@tn.gov
LOCATION:https://tn.webex.com/webappng/sites/tn/meeting/register/6feb20895a5b4deba709962110d5689b?ticket=4832534b00000007752db8c0c853e5507367d769b9b14cf627de3e4da3fdae4c6bfb3647b0e39353&timestamp=1732141920879&RGID=re66dae33fb4c175d63be17a19a8ad432
END:VEVENT
BEGIN:VEVENT
DTSTART;TZID=America/Chicago:20240801T183000
DTEND;TZID=America/Chicago:20240801T193000
DTSTAMP:20260425T234301
CREATED:20240603T144221Z
LAST-MODIFIED:20240801T142459Z
UID:10000545-1722537000-1722540600@www.collegefortn.org
SUMMARY:FAFSA Live
DESCRIPTION:FAFSA Live: 2024-2025 FAFSA Line-by-Line Thursday Nights \nWe are delving deep into the world of financial aid as we unravel the Free Application for Federal Student Aid (FAFSA) for the upcoming academic year. Whether you’re a student\, a parent\, or an educator\, understanding the intricacies of the FAFSA is crucial for unlocking needed funds for higher education. \nThroughout this session\, we’ll be taking a look at each line of the FAFSA\, breaking down complex terminology and offering practical tips to ensure you complete the form accurately and efficiently. From income questions to asset reporting\, we’ll leave no stone unturned. But this webinar isn’t just about us talking at you — it’s about engaging with you. So\, if you have any burning questions or uncertainties\, don’t hesitate to ask us. We’re here to provide clarity and guidance every step of the way. \nREGISTER HERE
URL:https://www.collegefortn.org/event/fafsa-live-8/
CATEGORIES:Student Webinars,Students & Parents,TN Path to College Events
END:VEVENT
BEGIN:VEVENT
DTSTART;TZID=America/Chicago:20240801T100000
DTEND;TZID=America/Chicago:20240801T110000
DTSTAMP:20260425T234301
CREATED:20240605T221422Z
LAST-MODIFIED:20240605T221422Z
UID:10000553-1722506400-1722510000@www.collegefortn.org
SUMMARY:Troubleshooting the FAFSA: FOR FINANCIAL AID PROFESSIONALS
DESCRIPTION:“Troubleshooting the FAFSA Thursday” is a dedicated discussion group for financial aid professionals. This group meets every Thursday to discuss\, analyze\, and solve challenges related to the Free Application for Federal Aid (FAFSA).   \nREGISTER HERE
URL:https://www.collegefortn.org/event/troubleshooting-the-fafsa-for-financial-aid-professionals-7/
CATEGORIES:Postsecondary Partners
END:VEVENT
BEGIN:VEVENT
DTSTART;TZID=America/Detroit:20240725T183000
DTEND;TZID=America/Detroit:20240725T193000
DTSTAMP:20260425T234301
CREATED:20240603T144037Z
LAST-MODIFIED:20240603T144423Z
UID:10000544-1721932200-1721935800@www.collegefortn.org
SUMMARY:FAFSA Live
DESCRIPTION:FAFSA Live: 2024-2025 FAFSA Line-by-Line Thursday Nights \nWe are delving deep into the world of financial aid as we unravel the Free Application for Federal Student Aid (FAFSA) for the upcoming academic year. Whether you’re a student\, a parent\, or an educator\, understanding the intricacies of the FAFSA is crucial for unlocking needed funds for higher education. \nThroughout this session\, we’ll be taking a look at each line of the FAFSA\, breaking down complex terminology and offering practical tips to ensure you complete the form accurately and efficiently. From income questions to asset reporting\, we’ll leave no stone unturned. But this webinar isn’t just about us talking at you — it’s about engaging with you. So\, if you have any burning questions or uncertainties\, don’t hesitate to ask us. We’re here to provide clarity and guidance every step of the way. \nREGISTER HERE
URL:https://www.collegefortn.org/event/fafsa-live-7/
CATEGORIES:Student Webinars,Students & Parents,TN Path to College Events
END:VEVENT
BEGIN:VEVENT
DTSTART;TZID=America/Chicago:20240725T100000
DTEND;TZID=America/Chicago:20240725T110000
DTSTAMP:20260425T234301
CREATED:20240605T221246Z
LAST-MODIFIED:20240605T221246Z
UID:10000552-1721901600-1721905200@www.collegefortn.org
SUMMARY:Troubleshooting the FAFSA: FOR FINANCIAL AID PROFESSIONALS
DESCRIPTION:“Troubleshooting the FAFSA Thursday” is a dedicated discussion group for financial aid professionals. This group meets every Thursday to discuss\, analyze\, and solve challenges related to the Free Application for Federal Aid (FAFSA).   \nREGISTER HERE
URL:https://www.collegefortn.org/event/troubleshooting-the-fafsa-for-financial-aid-professionals-6/
CATEGORIES:Postsecondary Partners
END:VEVENT
BEGIN:VEVENT
DTSTART;TZID=America/Detroit:20240718T183000
DTEND;TZID=America/Detroit:20240718T193000
DTSTAMP:20260425T234301
CREATED:20240603T143952Z
LAST-MODIFIED:20240603T144512Z
UID:10000543-1721327400-1721331000@www.collegefortn.org
SUMMARY:FAFSA Live
DESCRIPTION:FAFSA Live: 2024-2025 FAFSA Line-by-Line Thursday Nights \nWe are delving deep into the world of financial aid as we unravel the Free Application for Federal Student Aid (FAFSA) for the upcoming academic year. Whether you’re a student\, a parent\, or an educator\, understanding the intricacies of the FAFSA is crucial for unlocking needed funds for higher education. \nThroughout this session\, we’ll be taking a look at each line of the FAFSA\, breaking down complex terminology and offering practical tips to ensure you complete the form accurately and efficiently. From income questions to asset reporting\, we’ll leave no stone unturned. But this webinar isn’t just about us talking at you — it’s about engaging with you. So\, if you have any burning questions or uncertainties\, don’t hesitate to ask us. We’re here to provide clarity and guidance every step of the way. \nREGISTER HERE
URL:https://www.collegefortn.org/event/fafsa-live-6/
CATEGORIES:Student Webinars,Students & Parents,TN Path to College Events
END:VEVENT
BEGIN:VEVENT
DTSTART;TZID=America/Chicago:20240718T100000
DTEND;TZID=America/Chicago:20240718T110000
DTSTAMP:20260425T234301
CREATED:20240605T221038Z
LAST-MODIFIED:20240605T221038Z
UID:10000551-1721296800-1721300400@www.collegefortn.org
SUMMARY:Troubleshooting the FAFSA: FOR FINANCIAL AID PROFESSIONALS
DESCRIPTION:“Troubleshooting the FAFSA Thursday” is a dedicated discussion group for financial aid professionals. This group meets every Thursday to discuss\, analyze\, and solve challenges related to the Free Application for Federal Aid (FAFSA).   \nREGISTER HERE
URL:https://www.collegefortn.org/event/troubleshooting-the-fafsa-for-financial-aid-professionals-5/
CATEGORIES:Postsecondary Partners
END:VEVENT
BEGIN:VEVENT
DTSTART;TZID=America/Detroit:20240711T183000
DTEND;TZID=America/Detroit:20240711T193000
DTSTAMP:20260425T234301
CREATED:20240603T143856Z
LAST-MODIFIED:20240603T144553Z
UID:10000542-1720722600-1720726200@www.collegefortn.org
SUMMARY:FAFSA Live
DESCRIPTION:FAFSA Live: 2024-2025 FAFSA Line-by-Line Thursday Nights \nWe are delving deep into the world of financial aid as we unravel the Free Application for Federal Student Aid (FAFSA) for the upcoming academic year. Whether you’re a student\, a parent\, or an educator\, understanding the intricacies of the FAFSA is crucial for unlocking needed funds for higher education. \nThroughout this session\, we’ll be taking a look at each line of the FAFSA\, breaking down complex terminology and offering practical tips to ensure you complete the form accurately and efficiently. From income questions to asset reporting\, we’ll leave no stone unturned. But this webinar isn’t just about us talking at you — it’s about engaging with you. So\, if you have any burning questions or uncertainties\, don’t hesitate to ask us. We’re here to provide clarity and guidance every step of the way. \nREGISTER HERE
URL:https://www.collegefortn.org/event/fafsa-live-5/
CATEGORIES:Student Webinars,Students & Parents,TN Path to College Events
END:VEVENT
BEGIN:VEVENT
DTSTART;TZID=America/Chicago:20240711T100000
DTEND;TZID=America/Chicago:20240711T110000
DTSTAMP:20260425T234301
CREATED:20240605T220855Z
LAST-MODIFIED:20240605T220855Z
UID:10000550-1720692000-1720695600@www.collegefortn.org
SUMMARY:Troubleshooting the FAFSA: FOR FINANCIAL AID PROFESSIONALS
DESCRIPTION:“Troubleshooting the FAFSA Thursday” is a dedicated discussion group for financial aid professionals. This group meets every Thursday to discuss\, analyze\, and solve challenges related to the Free Application for Federal Aid (FAFSA).  \nREGISTER HERE
URL:https://www.collegefortn.org/event/troubleshooting-the-fafsa-for-financial-aid-professionals-4/
CATEGORIES:Postsecondary Partners
END:VEVENT
BEGIN:VEVENT
DTSTART;TZID=America/Detroit:20240627T183000
DTEND;TZID=America/Detroit:20240627T193000
DTSTAMP:20260425T234301
CREATED:20240603T143754Z
LAST-MODIFIED:20240603T144641Z
UID:10000541-1719513000-1719516600@www.collegefortn.org
SUMMARY:FAFSA Live
DESCRIPTION:FAFSA Live: 2024-2025 FAFSA Line-by-Line Thursday Nights \nWe are delving deep into the world of financial aid as we unravel the Free Application for Federal Student Aid (FAFSA) for the upcoming academic year. Whether you’re a student\, a parent\, or an educator\, understanding the intricacies of the FAFSA is crucial for unlocking needed funds for higher education. \nThroughout this session\, we’ll be taking a look at each line of the FAFSA\, breaking down complex terminology and offering practical tips to ensure you complete the form accurately and efficiently. From income questions to asset reporting\, we’ll leave no stone unturned. But this webinar isn’t just about us talking at you — it’s about engaging with you. So\, if you have any burning questions or uncertainties\, don’t hesitate to ask us. We’re here to provide clarity and guidance every step of the way. \nhttps://events.gcc.teams.microsoft.com/event/8ce190cb-d96a-4220-82cc-58409a61e6df@f345bebf-0d71-4337-9281-24b941616c36
URL:https://www.collegefortn.org/event/fafsa-live-4/
CATEGORIES:Student Webinars,Students & Parents,TN Path to College Events
END:VEVENT
BEGIN:VEVENT
DTSTART;TZID=America/Chicago:20240627T100000
DTEND;TZID=America/Chicago:20240627T110000
DTSTAMP:20260425T234301
CREATED:20240605T220701Z
LAST-MODIFIED:20240605T221913Z
UID:10000549-1719482400-1719486000@www.collegefortn.org
SUMMARY:Troubleshooting the FAFSA: FOR FINANCIAL AID PROFESSIONALS
DESCRIPTION:“Troubleshooting the FAFSA Thursday” is a dedicated discussion group for financial aid professionals. This group meets every Thursday to discuss\, analyze\, and solve challenges related to the Free Application for Federal Aid (FAFSA). \nREGISTER HERE
URL:https://www.collegefortn.org/event/troubleshooting-the-fafsa/
CATEGORIES:Postsecondary Partners
END:VEVENT
BEGIN:VEVENT
DTSTART;TZID=America/Detroit:20240620T183000
DTEND;TZID=America/Detroit:20240620T193000
DTSTAMP:20260425T234301
CREATED:20240603T143651Z
LAST-MODIFIED:20240603T144720Z
UID:10000540-1718908200-1718911800@www.collegefortn.org
SUMMARY:FAFSA Live
DESCRIPTION:FAFSA Live: 2024-2025 FAFSA Line-by-Line Thursday Nights \nWe are delving deep into the world of financial aid as we unravel the Free Application for Federal Student Aid (FAFSA) for the upcoming academic year. Whether you’re a student\, a parent\, or an educator\, understanding the intricacies of the FAFSA is crucial for unlocking needed funds for higher education. \nThroughout this session\, we’ll be taking a look at each line of the FAFSA\, breaking down complex terminology and offering practical tips to ensure you complete the form accurately and efficiently. From income questions to asset reporting\, we’ll leave no stone unturned. But this webinar isn’t just about us talking at you — it’s about engaging with you. So\, if you have any burning questions or uncertainties\, don’t hesitate to ask us. We’re here to provide clarity and guidance every step of the way. \nREGISTER HERE
URL:https://www.collegefortn.org/event/fafsa-live-3/
CATEGORIES:Student Webinars,Students & Parents,TN Path to College Events
END:VEVENT
BEGIN:VEVENT
DTSTART;TZID=America/Chicago:20240620T100000
DTEND;TZID=America/Chicago:20240620T110000
DTSTAMP:20260425T234301
CREATED:20240605T220435Z
LAST-MODIFIED:20240605T220435Z
UID:10000548-1718877600-1718881200@www.collegefortn.org
SUMMARY:Troubleshooting the FAFSA: FOR FINANCIAL AID PROFESSIONALS
DESCRIPTION:“Troubleshooting the FAFSA Thursday” is a dedicated discussion group for financial aid professionals. This group meets every Thursday to discuss\, analyze\, and solve challenges related to the Free Application for Federal Aid (FAFSA).   \nREGISTER HERE
URL:https://www.collegefortn.org/event/troubleshooting-the-fafsa-for-financial-aid-professionals-3/
CATEGORIES:Postsecondary Partners
END:VEVENT
BEGIN:VEVENT
DTSTART;TZID=America/Detroit:20240613T183000
DTEND;TZID=America/Detroit:20240613T193000
DTSTAMP:20260425T234301
CREATED:20240603T143414Z
LAST-MODIFIED:20240603T144744Z
UID:10000539-1718303400-1718307000@www.collegefortn.org
SUMMARY:FAFSA Live
DESCRIPTION:FAFSA Live: 2024-2025 FAFSA Line-by-Line Thursday Nights \nWe are delving deep into the world of financial aid as we unravel the Free Application for Federal Student Aid (FAFSA) for the upcoming academic year. Whether you’re a student\, a parent\, or an educator\, understanding the intricacies of the FAFSA is crucial for unlocking needed funds for higher education. \nThroughout this session\, we’ll be taking a look at each line of the FAFSA\, breaking down complex terminology and offering practical tips to ensure you complete the form accurately and efficiently. From income questions to asset reporting\, we’ll leave no stone unturned. But this webinar isn’t just about us talking at you — it’s about engaging with you. So\, if you have any burning questions or uncertainties\, don’t hesitate to ask us. We’re here to provide clarity and guidance every step of the way. \nREGISTER HERE
URL:https://www.collegefortn.org/event/fafsa-live-2/
CATEGORIES:Student Webinars,Students & Parents,TN Path to College Events
END:VEVENT
BEGIN:VEVENT
DTSTART;TZID=America/Chicago:20240613T100000
DTEND;TZID=America/Chicago:20240613T110000
DTSTAMP:20260425T234301
CREATED:20240605T220135Z
LAST-MODIFIED:20240605T220135Z
UID:10000547-1718272800-1718276400@www.collegefortn.org
SUMMARY:Troubleshooting the FAFSA: FOR FINANCIAL AID PROFESSIONALS
DESCRIPTION:“Troubleshooting the FAFSA Thursday” is a dedicated discussion group for financial aid professionals. This group meets every Thursday to discuss\, analyze\, and solve challenges related to the Free Application for Federal Aid (FAFSA).   \nREGISTER HERE
URL:https://www.collegefortn.org/event/troubleshooting-the-fafsa-for-financial-aid-professionals-2/
CATEGORIES:Postsecondary Partners
END:VEVENT
BEGIN:VEVENT
DTSTART;TZID=America/Chicago:20240606T183000
DTEND;TZID=America/Chicago:20240606T193000
DTSTAMP:20260425T234301
CREATED:20240603T142735Z
LAST-MODIFIED:20240603T143029Z
UID:10000538-1717698600-1717702200@www.collegefortn.org
SUMMARY:FAFSA Live
DESCRIPTION:FAFSA Live: 2024-2025 FAFSA Line-by-Line Thursday Nights \nDetails\nWe are delving deep into the world of financial aid as we unravel the Free Application for Federal Student Aid (FAFSA) for the upcoming academic year. Whether you’re a student\, a parent\, or an educator\, understanding the intricacies of the FAFSA is crucial for unlocking needed funds for higher education. \nThroughout this session\, we’ll be taking a look at each line of the FAFSA\, breaking down complex terminology and offering practical tips to ensure you complete the form accurately and efficiently. From income questions to asset reporting\, we’ll leave no stone unturned. But this webinar isn’t just about us talking at you — it’s about engaging with you. So\, if you have any burning questions or uncertainties\, don’t hesitate to ask us. We’re here to provide clarity and guidance every step of the way. \nREGISTER HERE
URL:https://www.collegefortn.org/event/fafsa-live/
CATEGORIES:Student Webinars,Students & Parents,TN Path to College Events
END:VEVENT
BEGIN:VEVENT
DTSTART;TZID=America/Chicago:20240606T100000
DTEND;TZID=America/Chicago:20240606T110000
DTSTAMP:20260425T234301
CREATED:20240605T215551Z
LAST-MODIFIED:20240605T215551Z
UID:10000546-1717668000-1717671600@www.collegefortn.org
SUMMARY:Troubleshooting the FAFSA: FOR FINANCIAL AID PROFESSIONALS
DESCRIPTION:“Troubleshooting the FAFSA Thursday” is a dedicated discussion group for financial aid professionals. This group meets every Thursday to discuss\, analyze\, and solve challenges related to the Free Application for Federal Aid (FAFSA).   \nREGISTER HERE
URL:https://www.collegefortn.org/event/troubleshooting-the-fafsa-for-financial-aid-professionals/
CATEGORIES:Postsecondary Partners
END:VEVENT
BEGIN:VEVENT
DTSTART;TZID=America/Chicago:20240325T183000
DTEND;TZID=America/Chicago:20240325T193000
DTSTAMP:20260425T234301
CREATED:20231027T161359Z
LAST-MODIFIED:20240202T210131Z
UID:10000528-1711391400-1711395000@www.collegefortn.org
SUMMARY:2024-2025 FAFSA Line-by-Line Webinars
DESCRIPTION:Every Monday night at 6:30 (CT) from January 8th to March 25th \, the THEC/TSAC Outreach team will conduct a live demonstration of the 2024–25 FAFSA.  If you have questions about completing the FAFSA or simply want to watch us complete the FAFSA before tackling it yourself\, please register for the Monday night that works best with your schedule. \nREGISTER HERE
URL:https://www.collegefortn.org/event/2024-2025-fafsa-line-by-line-webinars-12/
CATEGORIES:Student Webinars
END:VEVENT
BEGIN:VEVENT
DTSTART;TZID=America/Chicago:20240318T183000
DTEND;TZID=America/Chicago:20240318T193000
DTSTAMP:20260425T234301
CREATED:20231027T161257Z
LAST-MODIFIED:20240202T210239Z
UID:10000527-1710786600-1710790200@www.collegefortn.org
SUMMARY:2024-2025 FAFSA Line-by-Line Webinars
DESCRIPTION:Every Monday night at 6:30 (CT)from January 8th to March 25th \, the THEC/TSAC Outreach team will conduct a live demonstration of the 2024–25 FAFSA.  If you have questions about completing the FAFSA or simply want to watch us complete the FAFSA before tackling it yourself\, please register for the Monday night that works best with your schedule. \nREGISTER HERE
URL:https://www.collegefortn.org/event/2024-2025-fafsa-line-by-line-webinars-11/
CATEGORIES:Student Webinars
END:VEVENT
BEGIN:VEVENT
DTSTART;TZID=America/Chicago:20240311T183000
DTEND;TZID=America/Chicago:20240311T193000
DTSTAMP:20260425T234301
CREATED:20231027T161118Z
LAST-MODIFIED:20240202T210313Z
UID:10000526-1710181800-1710185400@www.collegefortn.org
SUMMARY:2024-2025 FAFSA Line-by-Line Webinars
DESCRIPTION:Every Monday night at 6:30 (CT) from January 8th to March 25th \, the THEC/TSAC Outreach team will conduct a live demonstration of the 2024–25 FAFSA.  If you have questions about completing the FAFSA or simply want to watch us complete the FAFSA before tackling it yourself\, please register for the Monday night that works best with your schedule. \nREGISTER HERE
URL:https://www.collegefortn.org/event/2024-2025-fafsa-line-by-line-webinars-10/
CATEGORIES:Student Webinars
END:VEVENT
BEGIN:VEVENT
DTSTART;TZID=America/Chicago:20240304T183000
DTEND;TZID=America/Chicago:20240304T193000
DTSTAMP:20260425T234301
CREATED:20231027T160957Z
LAST-MODIFIED:20240202T210350Z
UID:10000525-1709577000-1709580600@www.collegefortn.org
SUMMARY:2024-2025 FAFSA Line-by-Line Webinars
DESCRIPTION:Every Monday night at 6:30 (CT) from January 8th to March 25th \, the THEC/TSAC Outreach team will conduct a live demonstration of the 2024–25 FAFSA.  If you have questions about completing the FAFSA or simply want to watch us complete the FAFSA before tackling it yourself\, please register for the Monday night that works best with your schedule. \nREGISTER HERE
URL:https://www.collegefortn.org/event/2024-2025-fafsa-line-by-line-webinars-9/
CATEGORIES:Student Webinars
END:VEVENT
BEGIN:VEVENT
DTSTART;TZID=America/Chicago:20240226T183000
DTEND;TZID=America/Chicago:20240226T193000
DTSTAMP:20260425T234301
CREATED:20231027T160834Z
LAST-MODIFIED:20240202T210431Z
UID:10000523-1708972200-1708975800@www.collegefortn.org
SUMMARY:2024-2025 FAFSA Line-by-Line Webinars
DESCRIPTION:Every Monday night at 6:30 (CT) from January 8th to March 25th \, the THEC/TSAC Outreach team will conduct a live demonstration of the 2024–25 FAFSA.  If you have questions about completing the FAFSA or simply want to watch us complete the FAFSA before tackling it yourself\, please register for the Monday night that works best with your schedule. \nREGISTER HERE
URL:https://www.collegefortn.org/event/2024-2025-fafsa-line-by-line-webinars-8/
CATEGORIES:Student Webinars
END:VEVENT
BEGIN:VEVENT
DTSTART;TZID=America/Chicago:20240219T183000
DTEND;TZID=America/Chicago:20240219T193000
DTSTAMP:20260425T234301
CREATED:20231027T160656Z
LAST-MODIFIED:20240202T210507Z
UID:10000521-1708367400-1708371000@www.collegefortn.org
SUMMARY:2024-2025 FAFSA Line-by-Line Webinars
DESCRIPTION:Every Monday night at 6:30 (CT) from January 8th to March 25th \, the THEC/TSAC Outreach team will conduct a live demonstration of the 2024–25 FAFSA.  If you have questions about completing the FAFSA or simply want to watch us complete the FAFSA before tackling it yourself\, please register for the Monday night that works best with your schedule. \nREGISTER HERE
URL:https://www.collegefortn.org/event/2024-2025-fafsa-line-by-line-webinars-7/
CATEGORIES:Student Webinars
END:VEVENT
BEGIN:VEVENT
DTSTART;TZID=America/Chicago:20240205T183000
DTEND;TZID=America/Chicago:20240205T193000
DTSTAMP:20260425T234301
CREATED:20231026T150244Z
LAST-MODIFIED:20240202T210556Z
UID:10000517-1707157800-1707161400@www.collegefortn.org
SUMMARY:2024-2025 FAFSA Line-by-Line Webinars
DESCRIPTION:Every Monday night at 6:30 (CT) from January 8th to March 25th \, the THEC/TSAC Outreach team will conduct a live demonstration of the 2024–25 FAFSA.  If you have questions about completing the FAFSA or simply want to watch us complete the FAFSA before tackling it yourself\, please register for the Monday night that works best with your schedule. \nREGISTER HERE
URL:https://www.collegefortn.org/event/2024-2025-fafsa-line-by-line-webinars-5/
CATEGORIES:Student Webinars
END:VEVENT
BEGIN:VEVENT
DTSTART;TZID=America/Chicago:20240129T183000
DTEND;TZID=America/Chicago:20240129T193000
DTSTAMP:20260425T234301
CREATED:20231026T150039Z
LAST-MODIFIED:20240202T210652Z
UID:10000515-1706553000-1706556600@www.collegefortn.org
SUMMARY:2024-2025 FAFSA Line-by-Line Webinars
DESCRIPTION:Every Monday night at 6:30 (CT) from January 8th to March 25th \, the THEC/TSAC Outreach team will conduct a live demonstration of the 2024–25 FAFSA.  If you have questions about completing the FAFSA or simply want to watch us complete the FAFSA before tackling it yourself\, please register for the Monday night that works best with your schedule. \nREGISTER HERE
URL:https://www.collegefortn.org/event/2024-2025-fafsa-line-by-line-webinars-4/
CATEGORIES:Student Webinars
END:VEVENT
BEGIN:VEVENT
DTSTART;TZID=America/Detroit:20240123T193000
DTEND;TZID=America/Detroit:20240123T203000
DTSTAMP:20260425T234301
CREATED:20240123T165144Z
LAST-MODIFIED:20240123T165402Z
UID:10000453-1706038200-1706041800@www.collegefortn.org
SUMMARY:2024-2025 FAFSA Line-by-Line Webinars
DESCRIPTION:Every Monday night at 7:30 (EST) from January 8th to March 25th \, the THEC/TSAC Outreach team will conduct a live demonstration of the 2024–25 FAFSA.  If you have questions about completing the FAFSA or simply want to watch us complete the FAFSA before tackling it yourself\, please register for the Monday night that works best with your schedule. \nREGISTER HERE
URL:https://www.collegefortn.org/event/2024-2025-fafsa-line-by-line-webinars-16/
CATEGORIES:Student Webinars
END:VEVENT
BEGIN:VEVENT
DTSTART;TZID=America/Detroit:20240122T193000
DTEND;TZID=America/Detroit:20240122T203000
DTSTAMP:20260425T234301
CREATED:20231026T145812Z
LAST-MODIFIED:20231026T145812Z
UID:10000513-1705951800-1705955400@www.collegefortn.org
SUMMARY:2024-2025 FAFSA Line-by-Line Webinars
DESCRIPTION:Every Monday night at 7:30 (EST) from January 8th to March 25th \, the THEC/TSAC Outreach team will conduct a live demonstration of the 2024–25 FAFSA.  If you have questions about completing the FAFSA or simply want to watch us complete the FAFSA before tackling it yourself\, please register for the Monday night that works best with your schedule. \nREGISTER HERE
URL:https://www.collegefortn.org/event/2024-2025-fafsa-line-by-line-webinars-3/
CATEGORIES:Student Webinars
END:VEVENT
BEGIN:VEVENT
DTSTART;TZID=America/Detroit:20240118T193000
DTEND;TZID=America/Detroit:20240118T203000
DTSTAMP:20260425T234301
CREATED:20240116T171659Z
LAST-MODIFIED:20240116T172812Z
UID:10000451-1705606200-1705609800@www.collegefortn.org
SUMMARY:2024-2025 FAFSA Line-by-Line Webinars
DESCRIPTION:The THEC/TSAC Outreach team will conduct a live demonstration of the 2024–25 FAFSA at 7:30PM (EST)/ 6:30PM (CT).  If you have questions about completing the FAFSA or simply want to watch us complete the FAFSA before tackling it yourself\, please register for the Monday night that works best with your schedule. \nREGISTER HERE
URL:https://www.collegefortn.org/event/2024-2025-fafsa-line-by-line-webinars-15/
CATEGORIES:Student Webinars
ORGANIZER;CN="Tennessee Higher Education Commission":MAILTO:suzette.telli@tn.gov
END:VEVENT
BEGIN:VEVENT
DTSTART;TZID=America/Detroit:20240117T193000
DTEND;TZID=America/Detroit:20240117T203000
DTSTAMP:20260425T234301
CREATED:20240116T171610Z
LAST-MODIFIED:20240116T172850Z
UID:10000530-1705519800-1705523400@www.collegefortn.org
SUMMARY:2024-2025 FAFSA Line-by-Line Webinars
DESCRIPTION:The THEC/TSAC Outreach team will conduct a live demonstration of the 2024–25 FAFSA at 7:30PM (EST)/ 6:30PM (CT).  If you have questions about completing the FAFSA or simply want to watch us complete the FAFSA before tackling it yourself\, please register for the Monday night that works best with your schedule. \nREGISTER HERE
URL:https://www.collegefortn.org/event/2024-2025-fafsa-line-by-line-webinars-14/
CATEGORIES:Student Webinars
END:VEVENT
BEGIN:VEVENT
DTSTART;TZID=America/Detroit:20240116T193000
DTEND;TZID=America/Detroit:20240116T203000
DTSTAMP:20260425T234301
CREATED:20240116T171015Z
LAST-MODIFIED:20240116T173019Z
UID:10000529-1705433400-1705437000@www.collegefortn.org
SUMMARY:2024-2025 FAFSA Line-by-Line Webinars
DESCRIPTION:The THEC/TSAC Outreach team will conduct a live demonstration of the 2024–25 FAFSA at 7:30PM (EST)/ 6:30PM (CT).  If you have questions about completing the FAFSA or simply want to watch us complete the FAFSA before tackling it yourself\, please register for the Monday night that works best with your schedule. \nREGISTER HERE
URL:https://www.collegefortn.org/event/2024-2025-fafsa-line-by-line-webinars-13/
CATEGORIES:Student Webinars
ORGANIZER;CN="Tennessee Higher Education Commission":MAILTO:suzette.telli@tn.gov
END:VEVENT
END:VCALENDAR